BEGIN:VCALENDAR
VERSION:2.0
PRODID:-//wp-events-plugin.com//7.2.3.1//EN
TZID:Australia/Sydney
X-WR-TIMEZONE:Australia/Sydney
BEGIN:VEVENT
UID:2728@unswoc.org
DTSTART;TZID=Australia/Sydney:20200813T163000
DTEND;TZID=Australia/Sydney:20200813T174500
DTSTAMP:20200810T001745Z
URL:https://unswoc.org/wordpress/events/learning-to-rope-up-mountaineering
 /
SUMMARY:Learning to rope up - Mountaineering
DESCRIPTION:Hi Everyone\,\n\nCome and learn how mountaineers rope up for gl
 acier travel. I will go through why and how to do so. This is most suited 
 to intermediate learners :)\n\nLocation: The Ledge\, USyd\n\nDate: 13th Au
 gust 2020\n\nTime: 1700hrs to 1800hrs\n\nIf you're interested sign up and 
 message me on Facebook with:\n\n 	how much climbing experience you have\n 
 	what gear you have\n 	any snow/ice experience at all\n\nSpeak soon!\n\nBr
 endon Yiu
CATEGORIES:Training
END:VEVENT
BEGIN:VTIMEZONE
TZID:Australia/Sydney
X-LIC-LOCATION:Australia/Sydney
BEGIN:STANDARD
DTSTART:20200405T020000
TZOFFSETFROM:+1100
TZOFFSETTO:+1000
TZNAME:AEST
END:STANDARD
END:VTIMEZONE
END:VCALENDAR