BEGIN:VCALENDAR
VERSION:2.0
PRODID:-//wp-events-plugin.com//7.2.3.1//EN
TZID:Australia/Sydney
X-WR-TIMEZONE:Australia/Sydney
BEGIN:VEVENT
UID:2448@unswoc.org
DTSTART;TZID=Australia/Sydney:20190808T173000
DTEND;TZID=Australia/Sydney:20190808T193000
DTSTAMP:20190807T075159Z
URL:https://unswoc.org/wordpress/events/learning-to-clean-sport-climbs/
SUMMARY:Learning to clean Sport Climbs
DESCRIPTION:CLeaning Sport Climbs is a quintessential skill used by virtual
 ly all rock climbers.\n\nI'll be teaching this at The Ledge this Thursday 
 (8/8/2019) from 1800hrs to 1900hrs. This session would be most suited to t
 hose who are fresh to lead climbing and sport climbing.\n\nAfter requestin
 g to sign up\, please message me on Facebook with:\n\n 	Your rock climbing
  experience\n 	What rock climbing gear you have\n\n&nbsp\;\n\nThanks\,\n\n
 Brendon
END:VEVENT
BEGIN:VTIMEZONE
TZID:Australia/Sydney
X-LIC-LOCATION:Australia/Sydney
BEGIN:STANDARD
DTSTART:20190407T020000
TZOFFSETFROM:+1100
TZOFFSETTO:+1000
TZNAME:AEST
END:STANDARD
END:VTIMEZONE
END:VCALENDAR