BEGIN:VCALENDAR
VERSION:2.0
PRODID:-//wp-events-plugin.com//7.2.3.1//EN
TZID:Australia/Sydney
X-WR-TIMEZONE:Australia/Sydney
BEGIN:VEVENT
UID:2286@unswoc.org
DTSTART:20180917T073000Z
DTEND:20180917T110000Z
DTSTAMP:20180917T004918Z
URL:https://unswoc.org/wordpress/events/learning-how-to-lead/
SUMMARY:Learning how to lead
DESCRIPTION:Learning how to lead climb and lead belay @ St Peters climbing 
 gym (first indoor session). By Brendon and Maria.
CATEGORIES:Indoor Climbing
END:VEVENT
END:VCALENDAR