BEGIN:VCALENDAR
VERSION:2.0
PRODID:-//wp-events-plugin.com//7.2.3.1//EN
TZID:Australia/Sydney
X-WR-TIMEZONE:Australia/Sydney
BEGIN:VEVENT
UID:531@unswoc.org
DTSTART:20140814T214500Z
DTEND:20140815T030000Z
DTSTAMP:20140810T195432Z
URL:https://unswoc.org/wordpress/events/learn-trad-part-intermediate-climb
 ers/
SUMMARY:Learn to Trad - Part I (For Intermediate Climbers)
DESCRIPTION:Hey Guys n Gals!\n\nLoads of people have expressed keen interes
 t to learn Trad climbing\, so I'm super excited to get more people safely 
 into the radness and unbridled epicness and freedom of traditional climbin
 gness.\n\nPART I - Placing Gear and Building Anchors.\nPART II - Mock and 
 Real trad leading having experienced trad climbers checking gear (another 
 day\, stay tuned)\n\nThe most important thing in trad climbing is staying 
 alive\, while simply not falling does help\, having bomber gear\, many bac
 kups and super sound anchors is what matters most\, so join us at MAROUBRA
  QUARRY RESERVE FRIDAY MORNING 9am to learn and practise placing gear/buil
 ding anchors. We can have a bouldering sesh in the arvo too!\n\nNOTE: You 
 need to be an intermediate climber\, aka can lead/belay sport\, have absei
 led etc. this is not for beginners sorry. Please message me if you're unsu
 re\n\nIf you're not sure if you want to get into trad I would recommend co
 ming along anyway to check it out and many of the skills cross over to can
 yoning\, building top rope anchors and safety in general.\n\nTransport\n- 
 I may be able to offer a lift from uni\n- Any bus down Anzac\, not 391 or 
 392\, so 394\,393\,399\,395\,396\,400 get off at the corner of Avoca and A
 nzac and is a 10min walk\n- Bicycles are cool too\n\nYou'll need\n\n- you\
 n- keenness\n- snacks/water/lollies for you and your lovely trip leader\n\
 nCheers\,\n\nBrendan
CATEGORIES:Outdoor Climbing,Training
LOCATION:\, \, 
X-APPLE-STRUCTURED-LOCATION;VALUE=URI;X-ADDRESS=\, ;X-APPLE-RADIUS=100;X-TI
 TLE=:geo:0,0
END:VEVENT
END:VCALENDAR