BEGIN:VCALENDAR
VERSION:2.0
PRODID:-//wp-events-plugin.com//7.2.3.1//EN
TZID:Australia/Sydney
X-WR-TIMEZONE:Australia/Sydney
BEGIN:VEVENT
UID:2733@unswoc.org
DTSTART;TZID=Australia/Sydney:20200829T140000
DTEND;TZID=Australia/Sydney:20200829T180000
DTSTAMP:20200826T100346Z
URL:https://unswoc.org/wordpress/events/learn-to-rig-abseils-intermediate/
SUMMARY:Learn to Rig Abseils (intermediate)
DESCRIPTION:\n\n\n\nHey everyone!\n\n\n\n\n\n\n\n\nThis Saturday\, I (Nadav
 ) will be teaching an intermediate session in rigging Abseils. Location to
  be confirmed but thinking Lindfield Rocks at the moment if nothing closer
  comes to mind. Time: 2pm to 6pm\n\nI will be teaching releasable rigging 
 for abseils for management of dodgy edges or lowering of stuck abseilers. 
 Plus I'm happy to discuss and show any other canyoning techniques you migh
 t be interested in.\n\n\nI'll tailor it to the experience of the people wh
 o join and this is intended as an intermediate session\, but please don't 
 be shy in signing up as beginners are still welcome. Be sure to write down
  your experience.\n\n\n\n\n\n\n\n\nSome abseiling or climbing experience i
 s preferred but not 100% necessary\, but you will need (your own!):\n\n\n\
 n\n\n 	Abseiling gear: A harness*\, helmet*\, biners*\, slings*\, Safety*\
 , A Figure 8 device* (or similar descender\, if you have an atc I will voi
 ce my disdain and move on 😉)\n(* = could be borrowed from the club gear
  cupboard).\n 	For clothing: Sport clothes. It can get quite hot or quite
  chilly\, so be prepared for both.\n 	For sustenance: 2L of water\, food o
 r snacks\n 	Other gear: Sunscreen\, medicines if you need them (asthma puf
 fer\, etc)\, head torch (we'll probably be out before dark\, and the carpa
 rk is close but always good to have on you).\n\n&nbsp\;\n\nIf you have any
  questions or comments feel free to message me (Nadav Cohen) on Facebook. 
 Don't forget: Write down your experience in the comment box\n\n&nbsp\;\n\n
 Remember that if you are sick\, or displaying any symptoms\, stay at home
 !\n\n\n\n\n
CATEGORIES:Abseiling,Training
END:VEVENT
BEGIN:VTIMEZONE
TZID:Australia/Sydney
X-LIC-LOCATION:Australia/Sydney
BEGIN:STANDARD
DTSTART:20200405T020000
TZOFFSETFROM:+1100
TZOFFSETTO:+1000
TZNAME:AEST
END:STANDARD
END:VTIMEZONE
END:VCALENDAR