BEGIN:VCALENDAR
VERSION:2.0
PRODID:-//wp-events-plugin.com//7.2.3.1//EN
TZID:Australia/Sydney
X-WR-TIMEZONE:Australia/Sydney
BEGIN:VEVENT
UID:2754@unswoc.org
DTSTART;TZID=Australia/Sydney:20201029T183000
DTEND;TZID=Australia/Sydney:20201029T203000
DTSTAMP:20201026T064226Z
URL:https://unswoc.org/wordpress/events/learn-to-prusik/
SUMMARY:Learn to Prusik!
DESCRIPTION:This is the sign up form for the learn to prusik workshop I'll 
 be running at the ledge! This was meant to run last week but was postponed
  due to illness.\n\nWhat is prusiking?! In simple terms we'll be learning 
 how to ascend and descend a rope using two smaller ropes! But it is also a
  safety when abseiling and so much more. Essentially it's an incredibly us
 eful piece of equipment and knowledge that you should definitely have your
  head wrapped around!\n\nDuring this session we will:\n\n 	Learn how to ma
 ke a prusik\n 	Learn how to use a prusik to ascend and descend a rope (wil
 l probably use this time to have a bit of a competition as well!)\n 	If we
  have time: Looking at using a prusik as a safety when abseiling and passi
 ng a knot in the rope\n\nWhat you'll need (everything can be borrowed from
  the gear shed except the shoes):\n\n 	A harness\n 	Comfy shoes to prusik 
 in (I use my hiking boots or runners)\n 	A long and a short prusik (these 
 can be borrowed from the gear shed but if you're a budding climber you can
  also buy them for about $15 all up from climbing anchors\, feel free to s
 end me a message if you have any questions about purchasing them)\n 	One l
 ocking carabiner\n\nWe'll aim to start at 6:30 and then just keep going un
 til everyone feels confident!
END:VEVENT
BEGIN:VTIMEZONE
TZID:Australia/Sydney
X-LIC-LOCATION:Australia/Sydney
BEGIN:DAYLIGHT
DTSTART:20201004T030000
TZOFFSETFROM:+1000
TZOFFSETTO:+1100
TZNAME:AEDT
END:DAYLIGHT
END:VTIMEZONE
END:VCALENDAR