BEGIN:VCALENDAR
VERSION:2.0
PRODID:-//wp-events-plugin.com//7.2.3.1//EN
TZID:Australia/Sydney
X-WR-TIMEZONE:Australia/Sydney
BEGIN:VEVENT
UID:2995@unswoc.org
DTSTART;TZID=Australia/Sydney:20220414T183000
DTEND;TZID=Australia/Sydney:20220414T203000
DTSTAMP:20220413T123002Z
URL:https://unswoc.org/wordpress/events/learn-to-prusik-workshop-the-ledge
 /
SUMMARY:Learn to Prusik Workshop @ the Ledge
DESCRIPTION:Want to go down a rope? You should probably learn to go up too!
 \n\n&nbsp\;\n\nJoin me (Nadav) and Juri to learn\n\n\n\nPrusiking is a ver
 y useful skill for all sorts of things from aiding up a multi pitch as a s
 econd\, recovering a stuck rope in a canyon\, bailing from a problematic a
 bseil and many more\n\nWe will go through all things prusiking\, starting 
 at the very beginning\, things like how to tie the prussic\, what the diff
 erent way of prusiking are\, how to use an autoblock\, and work up from th
 ere till we get bored. Starting at 6:30pm at the ledge.\n\nBring your:\n\n
  	harness\n 	closed toe shoes that you dont mind wearing while climbing a 
 rope (if thats your climbing shoes thats cool)\n 	and any relent gear you 
 have\, the best practice is practice on your gear.\n 	gloves if you want\,
  it can be a bit hard on your hands the first time.\n\nWe will bring every
 thing else we need\n\n(Thanks Oliver for this excellent description that I
  stole)
CATEGORIES:Training
END:VEVENT
BEGIN:VTIMEZONE
TZID:Australia/Sydney
X-LIC-LOCATION:Australia/Sydney
BEGIN:STANDARD
DTSTART:20220403T020000
TZOFFSETFROM:+1100
TZOFFSETTO:+1000
TZNAME:AEST
END:STANDARD
END:VTIMEZONE
END:VCALENDAR