BEGIN:VCALENDAR
VERSION:2.0
PRODID:-//wp-events-plugin.com//7.2.3.1//EN
TZID:Australia/Sydney
X-WR-TIMEZONE:Australia/Sydney
BEGIN:VEVENT
UID:2747@unswoc.org
DTSTART;TZID=Australia/Sydney;VALUE=DATE:20201011
DTEND;TZID=Australia/Sydney;VALUE=DATE:20201012
DTSTAMP:20201007T090448Z
URL:https://unswoc.org/wordpress/events/learn-to-multipitch/
SUMMARY:Learn to Multipitch
DESCRIPTION:Are you confident in your climbing skills and looking for an ad
 venture? Do you want to climb something that Nina Williams wouldn’t call
  a highball boulder?\n\nBrendon and I will be running a trip for 2 people 
 who want to learn how to multipitch this Sunday (11th October). We’ll mo
 st likely be climbing Sweet Dreams\, a great multi to practice skills on a
 nd just a great climb in general.\n\nYou’ll need to bring:\n\n 	Harness 
 *\n 	Climbing shoes *\n 	Helmet *\n 	Safety *\n 	Guide ATC *\n 	2 prusiks 
 *\n 	Small backpack to climb with (with a waist/chest strap if possible)\n
  	Water\n 	Lunch\n 	Headtorch\n\n* Can be borrowed from the gear cupboard\
 n\n&nbsp\;\n\nIf you're interested\, leave a comment with your climbing ex
 perience and your comfortable climbing grade.\n\nIf you have any questions
 \, don't hesitate to shoot Brendon or I a message on Facebook.\n\n&nbsp\;
CATEGORIES:Outdoor Climbing
END:VEVENT
BEGIN:VTIMEZONE
TZID:Australia/Sydney
X-LIC-LOCATION:Australia/Sydney
BEGIN:DAYLIGHT
DTSTART:20201004T030000
TZOFFSETFROM:+1000
TZOFFSETTO:+1100
TZNAME:AEDT
END:DAYLIGHT
END:VTIMEZONE
END:VCALENDAR