BEGIN:VCALENDAR
VERSION:2.0
PRODID:-//wp-events-plugin.com//7.2.3.1//EN
TZID:Australia/Sydney
X-WR-TIMEZONE:Australia/Sydney
BEGIN:VEVENT
UID:2579@unswoc.org
DTSTART;TZID=Australia/Sydney;VALUE=DATE:20191117
DTEND;TZID=Australia/Sydney;VALUE=DATE:20191118
DTSTAMP:20191111T025806Z
URL:https://unswoc.org/wordpress/events/learn-to-multipitch-in-the-blue-mo
 untains/
SUMMARY:Learn to multipitch in the blue mountains
DESCRIPTION:Have you been climbing in the gym/outdoors for a little while? 
 Comfortable with lead climbing/belaying/possibly abseiling? Want to take t
 he next step?\n\nBrendon and I are running a bespoke trip for two people
  who want to take their climbing to the next level and learn to multipitch
  on Sunday 17/11/2019. It will be in the mountains\, but the exact climb w
 ill depend on the climbing abilities of those coming (something along the 
 lines of Sweet Dreams or Bellbird Wall).\n\nWe will choose people based on
  demonstrated interest and experience.\n\nPlease message me on facebook if
  you are interested with your experience\, your comfortable climbing grade
 \, and what you would be hoping to learn on this trip.\n\nYou will need to
  bring (can be borrowed from the club):\n\n 	climbing helmet\n 	harness\n 
 	ATC\n 	two prussiks\n 	120cm sling\n 	3-4 locking carabiners\n 	climbing 
 shoes\n 	small backpack (that you will climb with - should clip at the wai
 st/shoulders - with water\, snack\, an extra layer of clothes\, headtorch)
 \n\nBrendon has a car and will be driving up early on Sunday morning from 
 the Shire.
END:VEVENT
BEGIN:VTIMEZONE
TZID:Australia/Sydney
X-LIC-LOCATION:Australia/Sydney
BEGIN:DAYLIGHT
DTSTART:20191006T030000
TZOFFSETFROM:+1000
TZOFFSETTO:+1100
TZNAME:AEDT
END:DAYLIGHT
END:VTIMEZONE
END:VCALENDAR