BEGIN:VCALENDAR
VERSION:2.0
PRODID:-//wp-events-plugin.com//7.2.3.1//EN
TZID:Australia/Sydney
X-WR-TIMEZONE:Australia/Sydney
BEGIN:VEVENT
UID:2748@unswoc.org
DTSTART;TZID=Australia/Sydney;VALUE=DATE:20201011
DTEND;TZID=Australia/Sydney;VALUE=DATE:20201012
DTSTAMP:20201007T051301Z
URL:https://unswoc.org/wordpress/events/learn-to-multipitch-ii/
SUMMARY:Learn to multipitch II
DESCRIPTION:I will be running a guided trip for 2 people up their first mul
 tipitch this Sunday (11th October).\n\nYou’ll need to bring:\n\n 	Harnes
 s *\n 	Climbing shoes *\n 	Helmet *\n 	Safety sling + carabiner *\n 	ATC +
  carabiner *\n\n* Can be borrowed from the gear cupboard\n\nSee you there!
ATTACH;FMTTYPE=image/jpeg:https://unswoc.org/wordpress/wp-content/uploads/
 2020/07/Patrick-1.jpeg
CATEGORIES:Outdoor Climbing
END:VEVENT
BEGIN:VTIMEZONE
TZID:Australia/Sydney
X-LIC-LOCATION:Australia/Sydney
BEGIN:DAYLIGHT
DTSTART:20201004T030000
TZOFFSETFROM:+1000
TZOFFSETTO:+1100
TZNAME:AEDT
END:DAYLIGHT
END:VTIMEZONE
END:VCALENDAR