BEGIN:VCALENDAR
VERSION:2.0
PRODID:-//wp-events-plugin.com//7.2.3.1//EN
TZID:Australia/Sydney
X-WR-TIMEZONE:Australia/Sydney
BEGIN:VEVENT
UID:2867@unswoc.org
DTSTART;TZID=Australia/Sydney;VALUE=DATE:20210228
DTEND;TZID=Australia/Sydney;VALUE=DATE:20210301
DTSTAMP:20210226T091755Z
URL:https://unswoc.org/wordpress/events/learn-to-multi-pitch-reservoir-dog
 s/
SUMMARY:**Trip Full** Learn to multi-pitch @ Reservoir Dogs
DESCRIPTION:\n\nOn Sunday Stephen and I (Jenny) will be running a learn to 
 multi-pitch climbing trip in the Blue Mountains. This is a great opportuni
 ty to learn more about anchors\, abseiling and top belaying in a not too e
 xposed environment!\n\nYou will need:\n\n 	At least 2L water (it will be h
 ot)\n 	Lunch and snacks\n 	Sun protection (sunscreen\, hat\, sunnies)\n 	H
 elmet *\n 	Harness *\n 	Climbing shoes *\n 	Belay device with the option t
 o belay in guide mode and locking carabiner *\n 	Safety sling and locking 
 carabiner *\n 	Prusik and locking carabiner *\n\nItems with (*) can be bor
 rowed from the gear cupboard between 4-5pm on Thursdays.\n\nIf you're inte
 rested please let us know whether you can lead belay/lead climb in the com
 ments as well as your broader climbing level/experience.\n\nAny questions\
 , shoot me a message on Facebook. Looking forward to an educational day o
 ut!
ATTACH;FMTTYPE=image/jpeg:https://unswoc.org/wordpress/wp-content/uploads/
 2021/02/website-pic.jpg
CATEGORIES:Outdoor Climbing
END:VEVENT
BEGIN:VTIMEZONE
TZID:Australia/Sydney
X-LIC-LOCATION:Australia/Sydney
BEGIN:DAYLIGHT
DTSTART:20201004T030000
TZOFFSETFROM:+1000
TZOFFSETTO:+1100
TZNAME:AEDT
END:DAYLIGHT
END:VTIMEZONE
END:VCALENDAR