BEGIN:VCALENDAR
VERSION:2.0
PRODID:-//wp-events-plugin.com//7.2.3.1//EN
TZID:Australia/Sydney
X-WR-TIMEZONE:Australia/Sydney
BEGIN:VEVENT
UID:2765@unswoc.org
DTSTART;TZID=Australia/Sydney:20201112T183000
DTEND;TZID=Australia/Sydney:20201112T203000
DTSTAMP:20201111T230854Z
URL:https://unswoc.org/wordpress/events/learn-to-lock-off-your-descender-f
 or-canyoners-and-climbers/
SUMMARY:Learn to Lock off your Descender for Canyoners and Climbers (and ot
 her canyoning tips)
DESCRIPTION:This is the sign up form for the learning to lock off your desc
 ender workshop I'll be running at the ledge!\n\n(Please not that you MUST 
 be signed up to the ledge as well)\n\nWhat does Locking off mean?! In simp
 le terms we'll be learning how to stop yourself mid-abseil in a way that y
 ou can take you hands off the rope and do things mid abseil. Additionally\
 , I will show how to add friction to the rope while abseiling\n\nDuring th
 is session we will:\n\n 	When you might need to adjust friction/lock off\n
  	How to lock off and adjust friction\n 	Probably some other canyoning tec
 hniques if we have time\n\nWhat you'll need.\n\n 	your descender/belay dev
 ice of choice\n 	Harness\n 	Two locking carabiners minimum\n 	It will be h
 ighly beneficial if you have a figure 8 device or other canyoning device\n
 \nWe'll aim to start at 6:30 and then just keep going until everyone feels
  confident!
CATEGORIES:Training
END:VEVENT
BEGIN:VTIMEZONE
TZID:Australia/Sydney
X-LIC-LOCATION:Australia/Sydney
BEGIN:DAYLIGHT
DTSTART:20201004T030000
TZOFFSETFROM:+1000
TZOFFSETTO:+1100
TZNAME:AEDT
END:DAYLIGHT
END:VTIMEZONE
END:VCALENDAR