BEGIN:VCALENDAR
VERSION:2.0
PRODID:-//wp-events-plugin.com//7.2.3.1//EN
TZID:Australia/Sydney
X-WR-TIMEZONE:Australia/Sydney
BEGIN:VEVENT
UID:3239@unswoc.org
DTSTART;TZID=Australia/Sydney:20230316T180000
DTEND;TZID=Australia/Sydney:20230316T203000
DTSTAMP:20230313T012036Z
URL:https://unswoc.org/wordpress/events/learn-to-lead-the-ledge/
SUMMARY:[FULL] Learn to Lead @ The Ledge
DESCRIPTION:[caption id="attachment_14741" align="alignnone" width="767"] M
 y first outdoor climb - Hope (15) @ Piddo[/caption]\n\nMissed out on all t
 he lead climbing workshops so far? Want to learn some last minute skills b
 efore Boree Log?\n\nCaity and I will be at The Ledge on Thursday to teach 
 you guys how to lead climb and lead belay!\n\nEntry is $6 as usual and we'
 ll meet around 6pm. All you need to bring is:\n\n 	Comfy clothes\n 	Water\
 n 	Food/snacks if you're hungry (or pop by the Flodge afterwards)\n\nLet u
 s know in the comment box what your experience with climbing is and who yo
 ur favourite athlete is.\n\nCheers and hope to see you there!
CATEGORIES:Indoor Climbing,Training
END:VEVENT
BEGIN:VTIMEZONE
TZID:Australia/Sydney
X-LIC-LOCATION:Australia/Sydney
BEGIN:DAYLIGHT
DTSTART:20221002T030000
TZOFFSETFROM:+1000
TZOFFSETTO:+1100
TZNAME:AEDT
END:DAYLIGHT
END:VTIMEZONE
END:VCALENDAR