BEGIN:VCALENDAR
VERSION:2.0
PRODID:-//wp-events-plugin.com//7.2.3.1//EN
TZID:Australia/Sydney
X-WR-TIMEZONE:Australia/Sydney
BEGIN:VEVENT
UID:3571@unswoc.org
DTSTART;TZID=Australia/Sydney:20250328T183000
DTEND;TZID=Australia/Sydney:20250328T203000
DTSTAMP:20250324T001918Z
URL:https://unswoc.org/wordpress/events/learn-to-lead-st-peters/
SUMMARY:Learn to Lead @ St Peter's
DESCRIPTION:Hey Everyone!\n\nRaine\, Cornellius and I (Amelia V) will be ru
 nning a Learn to Lead at Sydney Indoor Climbing Gym at St Peter's this Fri
 day 28th of March at 6:30pm.\n\nYou will need to be comfortable top rope c
 limbing as minimum experience. Lead climbing experience is not necessary. 
 This means being able to both climb and belay comfortably and competently 
 (you don't need to climb hard grades\, just be comfortable climbing/belayi
 ng!). However\, if you've lead climbed before and just want some more prac
 tice and pointers\, or to get your St Peter's lead pass\, we'd love to hel
 p you out!\n\n\n\nWhat is Lead Climbing?\nSome definitions for those who a
 re unsure:\n\nTop roping is how you normally climb in indoor gyms. The rop
 es are already set up\, and all you need to do is climb whilst your belaye
 r takes in the slack as you go. If you fall\, you hang in the same spot.\n
 \nLead climbing is a bit more complicated. When you go climbing outdoors\,
  the ropes aren't already set up. So\, the climber will have to put up qui
 ckdraws along the route to clip the rope into as they go. If you fall and 
 you're above the bolt with the quickdraw\, you can fall a few metres. In i
 ndoor gyms like St Peter's\, the quickdraws are already in place. For outd
 oor climbing you'll need to carry them with you and place them yourself.\n
 \n\n\nWe will be teaching how to lead belay with two devices: GriGri and A
 TC. You'll be placed in a group of three and doing "mock leading" where on
 e person will top rope belay you\, and the other will be lead belaying you
 . St Peter's does not allow leading with ATC so only mock leading will be 
 allowed with this device\, which is still good practice for outdoor trips.
  If you're competent with a GriGri\, you can do your lead test and move fr
 om mock lead to lead climbing and belaying. You are not allowed to lead cl
 imb without passing a test from the gym staff.\n\nWe can also teach how to
  clean anchors if we have time.\n\n[caption id="attachment_18275" align="a
 ligncenter" width="168"] Mock Leading[/caption]\n\n\n\nPre-Reading\nIf you
 're keen to come along\, have a read-through of the following resources:\n
 \n 	How to Lead Climb\n 	How to Lead Belay (ATC)\n 	How to Belay with a Gr
 iGri\n 	Petzl Access Book 1: Belaying (Page 10 in particular)\n 	Petzl Acc
 ess Book 5: Sport Climbing\n\nBonus:\n\n 	How to Clean a Sport Anchor\n\n 
 	Note that the club teaches to use a safety/personal anchor system (PAS) i
 nstead of a second quickdraw.\n\n\n\n\n\n\nCost\nNote that all attendees w
 ill need to pay the St Peter's entry fee. For UNSWOC members who are uni s
 tudents\, we have a discount on Mondays\, Wednesdays and Fridays that will
  reduce entry to $14.50. Please bring a club card and student card. If you
  do not have a club card\, let me know in the comment and I can bring one 
 for you.\n\n\n\nHow to Attend\nTo attend\, sign up below and answer the fo
 llowing in your comment:\n\n 	Your climbing experience\n 	If you've lead c
 limbing or lead belayed before\n 	What you're hoping to learn (e.g. try le
 ad for the first time\, tips and tricks to improve\, or help in getting yo
 ur lead pass)\n 	If you could turn anything into an ice-cream flavour\, wh
 at would it be?\n\nAlso please make sure that a link to your Facebook is i
 ncluded on your UNSWOC profile so you can be added to a group chat. If you
  don't know how to edit this\, please included it in your comment.\n\n\n\n
 Keen to see you there! If you have any questions\, feel free to reach out 
 to me on Facebook messenger or via email at president@unswoc.org\n\n&nbsp\
 ;
CATEGORIES:Indoor Climbing,Training
LOCATION:https://maps.app.goo.gl/EbxsbaEeyUK211588
END:VEVENT
BEGIN:VTIMEZONE
TZID:Australia/Sydney
X-LIC-LOCATION:Australia/Sydney
BEGIN:DAYLIGHT
DTSTART:20241006T030000
TZOFFSETFROM:+1000
TZOFFSETTO:+1100
TZNAME:AEDT
END:DAYLIGHT
END:VTIMEZONE
END:VCALENDAR