BEGIN:VCALENDAR
VERSION:2.0
PRODID:-//wp-events-plugin.com//7.2.3.1//EN
TZID:Australia/Sydney
X-WR-TIMEZONE:Australia/Sydney
BEGIN:VEVENT
UID:2863@unswoc.org
DTSTART;TZID=Australia/Sydney:20181029T183000
DTEND;TZID=Australia/Sydney:20181029T203000
DTSTAMP:20210218T060836Z
URL:https://unswoc.org/wordpress/events/learn-to-lead-st-peters-session-2/
SUMMARY:Learn to Lead\, St Peters - Session 2
DESCRIPTION:Learning how to lead climb and lead belay at Sydney Indoor Clim
 bing Gym!
CATEGORIES:Training
END:VEVENT
BEGIN:VTIMEZONE
TZID:Australia/Sydney
X-LIC-LOCATION:Australia/Sydney
BEGIN:DAYLIGHT
DTSTART:20181007T030000
TZOFFSETFROM:+1000
TZOFFSETTO:+1100
TZNAME:AEDT
END:DAYLIGHT
END:VTIMEZONE
END:VCALENDAR