BEGIN:VCALENDAR
VERSION:2.0
PRODID:-//wp-events-plugin.com//7.2.3.1//EN
TZID:Australia/Sydney
X-WR-TIMEZONE:Australia/Sydney
BEGIN:VEVENT
UID:3656@unswoc.org
DTSTART;TZID=Australia/Sydney:20250919T183000
DTEND;TZID=Australia/Sydney:20250919T213000
DTSTAMP:20250914T235533Z
URL:https://unswoc.org/wordpress/events/learn-to-lead-round-2-t3/
SUMMARY:Learn to Lead Round 2 T3
DESCRIPTION:Hey Everyone!Last event was so popular\, we're running a second
 .\n\nRaine and Raff will be running a Learn to Lead at Sydney Indoor Climb
 ing Gym at St Peter's next Friday 19th of September at 6:30pm.You will nee
 d to be comfortable top rope climbing an 18 as minimum experience. Lead cl
 imbing experience is not necessary. This means being able to both climb an
 d belay comfortably and competently. However\, if you've lead climbed befo
 re and just want some more practice and pointers\, or to get your St Peter
 's lead pass\, we'd love to help you out!Below is a helpful prelude by Ame
 lia:\n\n\n\nWhat is Lead Climbing?\nSome definitions for those who are uns
 ure:\n\nTop roping is how you normally climb in indoor gyms. The ropes are
  already set up\, and all you need to do is climb whilst your belayer take
 s in the slack as you go. If you fall\, you hang in the same spot.\n\nLead
  climbing is a bit more complicated. When you go climbing outdoors\, the r
 opes aren't already set up. So\, the climber will have to put up quickdraw
 s along the route to clip the rope into as they go. If you fall and you're
  above the bolt with the quickdraw\, you can fall a few metres. In indoor 
 gyms like St Peter's\, the quickdraws are already in place. For outdoor cl
 imbing you'll need to carry them with you and place them yourself.\n\n\n\n
 We will be teaching how to lead belay with two devices: GriGri and ATC. Yo
 u'll be placed in a group of three and doing "mock leading" where one pers
 on will top rope belay you\, and the other will be lead belaying you. St P
 eter's does not allow leading with ATC so only mock leading will be allowe
 d with this device\, which is still good practice for outdoor trips. If yo
 u're competent with a GriGri\, you can do your lead test and move from moc
 k lead to lead climbing and belaying. You are not allowed to lead climb wi
 thout passing a test from the gym staff.\n\nWe can also teach how to clean
  anchors if we have time.\n\n[caption id="attachment_18275" align="alignce
 nter" width="168"] Mock Leading[/caption]\n\n\n\nPre-Reading\nIf you're ke
 en to come along\, have a read-through of the following resources:\n\n 	Ho
 w to Lead Climb\n 	How to Lead Belay (ATC)\n 	How to Belay with a GriGri\n
  	Petzl Access Book 1: Belaying (Page 10 in particular)\n 	Petzl Access Bo
 ok 5: Sport Climbing\n\nBonus:\n\n 	How to Clean a Sport Anchor\n\n 	Note 
 that the club teaches to use a safety/personal anchor system (PAS) instead
  of a second quickdraw.\n\n\n\n\n\n\nCost\nNote that all attendees will ne
 ed to pay the St Peter's entry fee. For UNSWOC members who are uni student
 s\, we have a discount on Mondays\, Wednesdays and Fridays that will reduc
 e entry to $14.50. Please bring a club card and student card. If you do no
 t have a club card\, let me know in the comment and I can bring one for yo
 u.\n\n\n\nHow to Attend\nTo attend\, sign up below and answer the followin
 g in your comment:\n\n 	Your climbing experience\n 	If you've lead climbin
 g or lead belayed before\n 	What you're hoping to learn (e.g. try lead for
  the first time\, tips and tricks to improve\, or help in getting your lea
 d pass)\n 	If you could turn anything into an ice-cream flavour\, what wou
 ld it be?\n\nAlso please make sure that a link to your Facebook is include
 d on your UNSWOC profile so you can be added to a group chat. If you don't
  know how to edit this\, please included it in your comment.\n\n\n\nKeen t
 o see you there! If you have any questions\, feel free to reach out to Rai
 ne Bianchini on FaceBook or email safety@unswoc.org\n\n
CATEGORIES:Indoor Climbing
LOCATION:https://maps.app.goo.gl/LpkmF5EKVcA5QdR39
END:VEVENT
BEGIN:VTIMEZONE
TZID:Australia/Sydney
X-LIC-LOCATION:Australia/Sydney
BEGIN:STANDARD
DTSTART:20250406T020000
TZOFFSETFROM:+1100
TZOFFSETTO:+1000
TZNAME:AEST
END:STANDARD
END:VTIMEZONE
END:VCALENDAR