BEGIN:VCALENDAR
VERSION:2.0
PRODID:-//wp-events-plugin.com//7.2.3.1//EN
TZID:Australia/Sydney
X-WR-TIMEZONE:Australia/Sydney
BEGIN:VEVENT
UID:2744@unswoc.org
DTSTART;TZID=Australia/Sydney:20201001T180000
DTEND;TZID=Australia/Sydney:20201001T200000
DTSTAMP:20200930T011631Z
URL:https://unswoc.org/wordpress/events/learn-to-lead-climb/
SUMMARY:Learn to Lead Climb
DESCRIPTION:NOTE: If you want to come learn to lead\, you will also need to
  sign up for the Ledge night event on Thursday! Link here: https://unswoc.
 org/wordpress/events/booking-thursday-the-ledge-2020-10-01/\n\nFor those w
 ho have been climbing indoors for a while on top-rope and want to expand y
 our skills\, this is the night for you! We will be going through the basic
 s of lead climbing such as how to clip\, how to climb safely\, and how to 
 use basic calls (take\, slack\, lower etc). It will be a good fun night wh
 ere you will be able to expand your comfort zone climbing\, and maybe even
  take some falls!\n\nYou need to be:\n\n 	Keen to develop your outdoor cli
 mbing skills\n 	At the Ledge at 6pm\n\nYou need to bring:\n\n 	Your harnes
 s\n 	Stoke\, lots\n\nIf you don’t have a harness you can borrow one from
  the gear cupboard on Thursday.\n\nWe will be climbing from 6-8pm but you 
 can climb before and after at the Ledge.\n\nGet keen!
END:VEVENT
BEGIN:VTIMEZONE
TZID:Australia/Sydney
X-LIC-LOCATION:Australia/Sydney
BEGIN:STANDARD
DTSTART:20200405T020000
TZOFFSETFROM:+1100
TZOFFSETTO:+1000
TZNAME:AEST
END:STANDARD
END:VTIMEZONE
END:VCALENDAR