BEGIN:VCALENDAR
VERSION:2.0
PRODID:-//wp-events-plugin.com//7.2.3.1//EN
TZID:Australia/Sydney
X-WR-TIMEZONE:Australia/Sydney
BEGIN:VEVENT
UID:2872@unswoc.org
DTSTART;TZID=Australia/Sydney:20210304T180000
DTEND;TZID=Australia/Sydney:20210304T200000
DTSTAMP:20210302T115421Z
URL:https://unswoc.org/wordpress/events/learn-to-lead-climb-the-ledge/
SUMMARY:Learn to Lead Climb @ The Ledge
DESCRIPTION:NOTE: If you want to come learn to lead\, you will also need to
  sign up for the Ledge night event on Thursday!\n\nFor those who have been
  climbing indoors for a while on top-rope and want to expand your skills\,
  this is the night for you! We will be going through the basics of lead cl
 imbing such as how to clip\, how to climb safely\, and how to use basic ca
 lls (take\, slack\, lower\, etc). It will be a good fun night where you wi
 ll be able to expand your comfort zone climbing\, and maybe even take some
  falls!\n\nYou need to be:\n\n 	Keen to develop your outdoor climbing skil
 ls\n 	Physically at the Ledge at 6pm\n\nYou need to bring:\n\n 	Harness*\n
  	Climbing shoes*\n 	Belay device if you have one\, but we should have eno
 ugh to go around\n 	Stoke\, lots\n\n* Club harnesses are available at the 
 Ledge and shoes can be borrowed from the gear cupboard before the Ledge on
  Thursday.\n\nWe will be learning from 6-8pm but you can climb before and 
 after at the Ledge.\n\nPlease let us know your climbing experience in the 
 comments\, and get keen!
CATEGORIES:Indoor Climbing,Training
END:VEVENT
BEGIN:VTIMEZONE
TZID:Australia/Sydney
X-LIC-LOCATION:Australia/Sydney
BEGIN:DAYLIGHT
DTSTART:20201004T030000
TZOFFSETFROM:+1000
TZOFFSETTO:+1100
TZNAME:AEDT
END:DAYLIGHT
END:VTIMEZONE
END:VCALENDAR