BEGIN:VCALENDAR
VERSION:2.0
PRODID:-//wp-events-plugin.com//7.2.3.1//EN
TZID:Australia/Sydney
X-WR-TIMEZONE:Australia/Sydney
BEGIN:VEVENT
UID:2738@unswoc.org
DTSTART;TZID=Australia/Sydney:20200919T100000
DTEND;TZID=Australia/Sydney:20200919T170000
DTSTAMP:20200918T232235Z
URL:https://unswoc.org/wordpress/events/learn-to-lead-climb-at-bangor/
SUMMARY:Learn to Lead Climb at The Ledge
DESCRIPTION:Unfortunately due to the weather Bangor is wet and the event ha
 s been moved to the Ledge at 11am.\n\nEver wanted to learn to lead climb?!
  Or perhaps you just want to put your new found skills from ledge training
  sessions to work! Look no further as Nic and I are leading a club trip to
  Bangor West this Saturday for a Learn to Lead Climb Session.\n\nThe plan:
  We will aim to arrive at the cul-de-sac by 10am and then we will all tog
 ether walk down to the crag. Unfortunately due to COVID-19 we are unable t
 o organise car pools. Park along Adaluma ave rather than crowding Arunta C
 l so that we don't annoy any locals or if you are taking public transport 
 it'll take about 1.5 hours. If you are having any problems getting there c
 ontact myself or Nicholas Di Campi.\n\nThe gear: You'll need to pick up yo
 ur own equipment from the gear shed this Thursday\, Helmet\, Harness\, Bel
 ay Device (ATC\, Grigri)\, 2 Carabiners\, Safety Sling\n\nBangor West: htt
 ps://www.thecrag.com/en/climbing/australia/sutherland/area/13083847\n\nIf 
 you have any quick draws bring them along but we'll have plenty to share!\
 n\nLeave a comment as to why you want to come!\n\n&nbsp\;
CATEGORIES:Climbing
END:VEVENT
BEGIN:VTIMEZONE
TZID:Australia/Sydney
X-LIC-LOCATION:Australia/Sydney
BEGIN:STANDARD
DTSTART:20200405T020000
TZOFFSETFROM:+1100
TZOFFSETTO:+1000
TZNAME:AEST
END:STANDARD
END:VTIMEZONE
END:VCALENDAR