BEGIN:VCALENDAR
VERSION:2.0
PRODID:-//wp-events-plugin.com//7.2.3.1//EN
TZID:Australia/Sydney
X-WR-TIMEZONE:Australia/Sydney
BEGIN:VEVENT
UID:3048@unswoc.org
DTSTART;TZID=Australia/Sydney:20220810T184500
DTEND;TZID=Australia/Sydney:20220810T210000
DTSTAMP:20220809T224902Z
URL:https://unswoc.org/wordpress/events/learn-to-lead-climb-and-belay-st-p
 eters/
SUMMARY:Learn to lead (climb and belay) - St. Peters
DESCRIPTION:Cindy and I (Sammy) will be running a learn-to-lead session on 
 Wednesday 10th August (evening) at St. Peters Climbing Gym. We will teach 
 you how to safely lead belay and lead climb.\n&nbsp\;\n\nWondering if you 
 are ready to start leading? If you are feeling comfortable top-roping grad
 e 19\, then I'd say you are ready to start learning to lead.\n\n&nbsp\;\n\
 nYou will need:\n\n- a harness (gear shed or st. peters)\n\n- climbing sho
 es (gear shed or st peters)\n\n&nbsp\;\n\nCindy and I will bring the ropes
  and belay devices\, but if you have your own belay devices.\n\nLet me kno
 w in the comments what level you are climbing at the moment on top-rope\, 
 and what experience you might already have with lead climbing.\n\nNote. yo
 u will need to pay entry to St. Peters Climbing Gym yourself.\n\nGET KEEN!
 !!\n\n&nbsp\;
CATEGORIES:Training
END:VEVENT
BEGIN:VTIMEZONE
TZID:Australia/Sydney
X-LIC-LOCATION:Australia/Sydney
BEGIN:STANDARD
DTSTART:20220403T020000
TZOFFSETFROM:+1100
TZOFFSETTO:+1000
TZNAME:AEST
END:STANDARD
END:VTIMEZONE
END:VCALENDAR