BEGIN:VCALENDAR
VERSION:2.0
PRODID:-//wp-events-plugin.com//7.2.3.1//EN
TZID:Australia/Sydney
X-WR-TIMEZONE:Australia/Sydney
BEGIN:VEVENT
UID:2990@unswoc.org
DTSTART;TZID=Australia/Sydney:20220327T100000
DTEND;TZID=Australia/Sydney:20220327T130000
DTSTAMP:20220325T230605Z
URL:https://unswoc.org/wordpress/events/learn-to-lead-climb-3/
SUMMARY:Learn to Lead Climb!
DESCRIPTION:Hi All!\n\nSam\, Xab and myself will be running a Learn to Lead
  trip at St Peter’s this weekend! This will give you the opportunity to 
 learn how to lead climb AND lead belay\, while being kept safe on top-rope
  🙂.\n\nThe plan is to meet at Sydney Indoor Climbing Gym at 10:00am on
  Sunday!\n\nWhat to Bring:\n\n 	Own harness with a belay loop (if not poss
 ible let us know)\n 	Preferred Belay device (I will bring a few spare ATCs
  if you don't have any preference )\n 	Shoes / chalk / water etc\n\nPre-Re
 ading\n\nWe will go over everything on the day\, but please come with an u
 nderstanding of the principles of lead climbing so we can spend as much ti
 me practicing on the wall as possible. These include:\n\n 	How to tie into
  the rope\, and rope management\n 	How to belay a lead climber\n 	How to c
 lip and leading principles\n 	Lead climbing commands\n\nIf you are unfamil
 iar with these\, the following articles will go through everything\n\nhttp
 s://www.vdiffclimbing.com/basic-lead-climb/\n\nhttps://www.vdiffclimbing.c
 om/basic-lead-belay/\n\nhttps://www.youtube.com/watch?v=S_F1MfVGOzk
CATEGORIES:Training
END:VEVENT
BEGIN:VTIMEZONE
TZID:Australia/Sydney
X-LIC-LOCATION:Australia/Sydney
BEGIN:DAYLIGHT
DTSTART:20211003T030000
TZOFFSETFROM:+1000
TZOFFSETTO:+1100
TZNAME:AEDT
END:DAYLIGHT
END:VTIMEZONE
END:VCALENDAR