BEGIN:VCALENDAR
VERSION:2.0
PRODID:-//wp-events-plugin.com//7.2.3.1//EN
TZID:Australia/Sydney
X-WR-TIMEZONE:Australia/Sydney
BEGIN:VEVENT
UID:2985@unswoc.org
DTSTART;TZID=Australia/Sydney:20220227T093000
DTEND;TZID=Australia/Sydney:20220227T123000
DTSTAMP:20220224T053026Z
URL:https://unswoc.org/wordpress/events/learn-to-lead-climb-2/
SUMMARY:Learn to Lead Climb!
DESCRIPTION:Hi there fellow UNSWOCers!\n\nSammy and I will be running a Lea
 rn to Lead trip at St Peter's this weekend! This will give you the opportu
 nity to learn how to lead climb AND lead belay\, while being kept safe on 
 top-rope :) While we would have LOVED to take you outside\, the weather ha
 s been uncooperative to say the least.\n\nThe plan is to meet at Sydney In
 door Climbing Gym at 9:30am on Sunday!\n\nWhat to Wear:\n\n 	Comfy clothes
  that don't hinder movement.\n\nWhat to Pack:\n\n 	1L Water\n 	Lunch  (if
  you get ravenously hungry!)\n 	Snacks\n 	Hat\n\nPlease note: You must be 
 fully vaccinated against COVID-19\, and not have any symptoms to attend t
 his trip. We will need to sight your proof of vaccination prior to embarki
 ng on the trip. \n\nWe will only be accepting people who leave a comment\
 , to check that you have read the above. So\, please comment if you have a
  car\, any prior experience\, any medical conditions (e.g. allergies that 
 we should be aware of) and your favourite place in the world.\n\nGet excit
 ed!
END:VEVENT
BEGIN:VTIMEZONE
TZID:Australia/Sydney
X-LIC-LOCATION:Australia/Sydney
BEGIN:DAYLIGHT
DTSTART:20211003T030000
TZOFFSETFROM:+1000
TZOFFSETTO:+1100
TZNAME:AEDT
END:DAYLIGHT
END:VTIMEZONE
END:VCALENDAR