BEGIN:VCALENDAR
VERSION:2.0
PRODID:-//wp-events-plugin.com//7.2.3.1//EN
TZID:Australia/Sydney
X-WR-TIMEZONE:Australia/Sydney
BEGIN:VEVENT
UID:3216@unswoc.org
DTSTART;TZID=Australia/Sydney:20230312T090000
DTEND;TZID=Australia/Sydney:20230312T150000
DTSTAMP:20230307T230654Z
URL:https://unswoc.org/wordpress/events/learn-to-lead-at-the-soft-parade/
SUMMARY:Learn to Lead at the Soft Parade
DESCRIPTION:This Sunday\, Brendan and I will be running learn to lead works
 hop outdoors!! We will be headed to the Soft Parade in the Blue Mountains\
 , a great beginner crag with a decent amount of stuff we can hop on to pra
 ctice our skills. We can spend as much time practicing certain skills as p
 eople are keen. This session will be aimed primarily at those looking to t
 ransition from indoor climbing to outdoor self-sufficiency.\n\n[caption id
 ="attachment_14678" align="alignnone" width="225"] My first ever outdoor t
 rip in 2021 at the Soft Parade. Great day!![/caption]\n\n\n\nSome of the s
 kills we’re aiming to cover include lead belaying\, clipping\, falling a
 nd other helpful tips and tricks. We acknowledge that it will be difficult
  to cover everything required for you to go outside and start climbing by 
 yourself\, but hopefully\, this can be a good step in the right direction.
 \n\n&nbsp\;\n\nPlease bring the following:\n\n 	Harness*\n 	Helmet*\n 	Cli
 mbing shoes*\n 	Belay device + locking carabiner* (e.g. ATC\, GriGri)\n 	S
 afety sling + locking carabiner* (for cleaning routes)\n 	Chalk\, if you h
 ave*\n\n&nbsp\;\n\n*Gear can be borrowed at the Gear Cupboard at UNSW duri
 ng Gear Night (usually Thursday evening)\, please check Facebook for the
  latest details\n\n&nbsp\;\n\nBring along whatever relevant gear you curre
 ntly own\, the rest will be provided by us. In the comments let me know yo
 ur current experience level\, any gear you currently own\, and what you’
 d be looking to get out of this training.\n\n&nbsp\;\n\nPre-reading:\n\nTh
 ese articles cover most of the theory we’ll go over and practice on Sund
 ay so reading them before will help you understand the concepts on the day
 .\n\n 	Lead climbing\n 	Lead belaying\n 	Belaying with a GriGri\n 	Cleanin
 g sport routes\n\n&nbsp\;\n\nIf you have any questions feel free to messag
 e us on Facebook.\n\nCan't wait\, see you guys there!
CATEGORIES:Climbing,Outdoor Climbing,Training
END:VEVENT
BEGIN:VTIMEZONE
TZID:Australia/Sydney
X-LIC-LOCATION:Australia/Sydney
BEGIN:DAYLIGHT
DTSTART:20221002T030000
TZOFFSETFROM:+1000
TZOFFSETTO:+1100
TZNAME:AEDT
END:DAYLIGHT
END:VTIMEZONE
END:VCALENDAR