BEGIN:VCALENDAR
VERSION:2.0
PRODID:-//wp-events-plugin.com//7.2.3.1//EN
TZID:Australia/Sydney
X-WR-TIMEZONE:Australia/Sydney
BEGIN:VEVENT
UID:471@unswoc.org
DTSTART:20140607T060000Z
DTEND:20140609T123000Z
DTSTAMP:20140413T151011Z
URL:https://unswoc.org/wordpress/events/learn-to-backcountry-ski-long-week
 end/
SUMMARY:Learn to Backcountry Ski Long Weekend
DESCRIPTION:This is the trip to attend if you can ski\, but want to learn h
 ow to tour out into the backcountry.\n\nAs it is a long weekend\, we have 
 a Monday public holiday to play with.\n\nSaturday will be a skills teachin
 g day at the Ramsheads.\n\nSunday and Monday we will ski out to Seaman’s
  Hut and Camp there.\n\nMore details and bookings will follow.
CATEGORIES:Backcountry
LOCATION:\, \, 
X-APPLE-STRUCTURED-LOCATION;VALUE=URI;X-ADDRESS=\, ;X-APPLE-RADIUS=100;X-TI
 TLE=:geo:0,0
END:VEVENT
END:VCALENDAR