BEGIN:VCALENDAR
VERSION:2.0
PRODID:-//wp-events-plugin.com//7.2.3.1//EN
TZID:Australia/Sydney
X-WR-TIMEZONE:Australia/Sydney
BEGIN:VEVENT
UID:2633@unswoc.org
DTSTART;TZID=Australia/Sydney:20200319T080000
DTEND;TZID=Australia/Sydney:20200319T110000
DTSTAMP:20200316T104624Z
URL:https://unswoc.org/wordpress/events/learn-to-abseil-small-group/
SUMMARY:Learn To Abseil (small group)
DESCRIPTION:I will be teaching some club members to abseil thursday morning
  for boree log.\n\nWe will be at maroubra quarry from 8am -11am\n\nThis is
  a private trip sorry.
CATEGORIES:Abseiling
END:VEVENT
BEGIN:VTIMEZONE
TZID:Australia/Sydney
X-LIC-LOCATION:Australia/Sydney
BEGIN:DAYLIGHT
DTSTART:20191006T030000
TZOFFSETFROM:+1000
TZOFFSETTO:+1100
TZNAME:AEDT
END:DAYLIGHT
END:VTIMEZONE
END:VCALENDAR