BEGIN:VCALENDAR
VERSION:2.0
PRODID:-//wp-events-plugin.com//7.2.3.1//EN
TZID:Australia/Sydney
X-WR-TIMEZONE:Australia/Sydney
BEGIN:VEVENT
UID:2894@unswoc.org
DTSTART;TZID=Australia/Sydney:20210416T160000
DTEND;TZID=Australia/Sydney:20210416T180000
DTSTAMP:20210412T233810Z
URL:https://unswoc.org/wordpress/events/learn-to-abseil-clovelly/
SUMMARY:Learn to abseil @ Clovelly
DESCRIPTION:For this weeks training\, come to a learn to abseil!\n\nAbseili
 ng is a crucial skill for all outside rope work. If you want to climb or c
 anyon or cave\, having a good knowledge of abseiling is essential. So come
  along for a BEGINNERS workshop in the 101 basics of abseiling.\n\nAs its 
 getting darker the workshop will start at 4pm sharp on Friday at Clovelly 
 cliffs. If you would like a lift from uni (or have a car to provide a lift
 )  please let me know in the comments.\n\nEquipment:\n\n- Bring any of yo
 ur personal equipment\n\n- ATC\, harness\, helmet\, rope and safety will p
 rovided\n\n- Ware trainers or solid shoes and comfortable clothing (long s
 horts to pants are more comfortable with a harness)\n\n- Make sure to brin
 g water\, a Jumper (ocean wind can get nippy) AND A HEAD TOURCH\n\nPlease 
 put your relevant experience or wants/wishes for the workshop in the comme
 nts (It’s ok if you have 0 experience I just want to know how to taper t
 he training)\n\nIf you have any questions feel free to shoot me (Mira Bug)
  a message on facebook or come and find me at the ledge on Thursday.\n\n&n
 bsp\;\n\n&nbsp\;\n\n&nbsp\;\n\n*please note I am just volunteer not a prof
 essional guide\n\n&nbsp\;
ATTACH;FMTTYPE=image/jpeg:https://unswoc.org/wordpress/wp-content/uploads/
 2021/04/empress_canyon_2020_lg.jpg
CATEGORIES:Abseiling
END:VEVENT
BEGIN:VTIMEZONE
TZID:Australia/Sydney
X-LIC-LOCATION:Australia/Sydney
BEGIN:STANDARD
DTSTART:20210404T020000
TZOFFSETFROM:+1100
TZOFFSETTO:+1000
TZNAME:AEST
END:STANDARD
END:VTIMEZONE
END:VCALENDAR