BEGIN:VCALENDAR
VERSION:2.0
PRODID:-//wp-events-plugin.com//7.2.3.1//EN
TZID:Australia/Sydney
X-WR-TIMEZONE:Australia/Sydney
BEGIN:VEVENT
UID:2730@unswoc.org
DTSTART;TZID=Australia/Sydney;VALUE=DATE:20200816
DTEND;TZID=Australia/Sydney;VALUE=DATE:20200817
DTSTAMP:20200813T052230Z
URL:https://unswoc.org/wordpress/events/learn-to-abseil-beginner-climbing/
SUMMARY:Learn to Abseil/Beginner Climbing
DESCRIPTION:\n\n\n\nHey everyone!\n\n\nMatt/Jenny and I (Nic) will be leadi
 ng a beginner-friendly trip to Bangor in South Sydney. This is a lovely cr
 ag in a peaceful bush setting\, with a short walk in – perfect beginner 
 and intermediate climbers! 😊\n\n\n\n\n\nThis trip will also run as a be
 ginner's abseiling trip\, so get excited!\n\n\n\n\n\n\nNo climbing experie
 nce is required\, but you will need (your own!):\n\n 	Climbing gear: A ha
 rness*\, helmet*\, climbing shoes* and chalk bag (* = could be borrowed fr
 om the club gear cupboard).\n 	For clothing: Sport clothes. It can get qu
 ite hot or quite chilly\, so be prepared for both.\n 	For sustenance: 2L 
 of water\, food or snacks\, chocolate for trip leaders 😉\n 	Other gear
 : Sunscreen\, medicines if you need them (asthma puffer\, etc).\n\nIf you
  have any questions\, comments\, concerns\, death threats\, or dead budger
 igars myself (Nicolas Di Campli) on Facebook. Write down your experience\,
  and whether you want to learn to lead climb or abseil!\n\nRemember that 
 if you are sick\, or displaying any symptoms\, stay at home!\n\nGet stoke
 d\, it should be a fun day (if it doesn’t rain)!\n\n\n\n\n
END:VEVENT
BEGIN:VTIMEZONE
TZID:Australia/Sydney
X-LIC-LOCATION:Australia/Sydney
BEGIN:STANDARD
DTSTART:20200405T020000
TZOFFSETFROM:+1100
TZOFFSETTO:+1000
TZNAME:AEST
END:STANDARD
END:VTIMEZONE
END:VCALENDAR