BEGIN:VCALENDAR
VERSION:2.0
PRODID:-//wp-events-plugin.com//7.2.3.1//EN
TZID:Australia/Sydney
X-WR-TIMEZONE:Australia/Sydney
BEGIN:VEVENT
UID:2165@unswoc.org
DTSTART:20170823T020000Z
DTEND:20170823T050000Z
DTSTAMP:20170820T235119Z
URL:https://unswoc.org/wordpress/events/learn-roll-2/
SUMMARY:Learn to Roll
DESCRIPTION:Hey there!\n\nWant to come whitewater paddling? Interested in c
 ompeting in the Winter Safari? To do either of these amazing things with t
 he club\, you need to know the basic skills. Come join Aidan and I down at
  the beach to practice/learn your roll\, throw some throw ropes and potent
 ially have a play in the surf (swell and skill level dependent).\n\nWe wil
 l be meeting at the gear cupboard at 1pm and will gather supplies to head 
 from there. If anyone has a car we can take more people\, so let us know i
 f you are willing to drive :)\n\nWhat do you need?\n\n	Swimmers\n	Towel\n	
 Wet suit* or drytop\n	Sunscreen\n	pfd*\n\nNote: *=club can provide
ATTACH;FMTTYPE=image/jpeg:https://unswoc.org/wordpress/wp-content/uploads/
 2017/08/995620_10152142331777394_763677938_n.jpg
CATEGORIES:Whitewater Kayaking
END:VEVENT
END:VCALENDAR