BEGIN:VCALENDAR
VERSION:2.0
PRODID:-//wp-events-plugin.com//7.2.3.1//EN
TZID:Australia/Sydney
X-WR-TIMEZONE:Australia/Sydney
BEGIN:VEVENT
UID:2760@unswoc.org
DTSTART;TZID=Australia/Sydney:20201105T183000
DTEND;TZID=Australia/Sydney:20201105T203000
DTSTAMP:20201103T110952Z
URL:https://unswoc.org/wordpress/events/learn-releasable-rigging-for-canyo
 ning-and-abseiling/
SUMMARY:Learn Releasable Rigging for Canyoning and Abseiling!
DESCRIPTION:This is the sign up form for the learning releasable rigging wo
 rkshop I'll be running at the ledge!\n\n(Please not that you MUST be signe
 d up to the ledge as well)\n\nWhat are releasable anchors?! In simple term
 s we'll be learning how to set an abseil such that you can lower a stuck a
 bseiler or manage your rope over a sharp edge. It's a safer option to have
  more redundancies! Essentially it's an incredibly useful piece of knowled
 ge that you should definitely have your head wrapped around for canyoning 
 and abseiling! Remember climbers\, you often have to abseil too!!\n\nDurin
 g this session we will:\n\n 	Learn what releasable systems are\n 	Learn ho
 w to rig various different releasable systems\n 	Learn when to use differe
 nt techniques\n\nWhat you'll need (don't worry if you don't have anything\
 , but it'll help me a lot if you do :) )\n\n 	your descender/belay device 
 of choice (don't worry if you don't have one)\n 	One locking carabiner\n 	
 one quickdraw\n 	if you've got a figure 8 descender device that would be a
 wesome but not necessary\n\nWe'll aim to start at 6:30 and then just keep 
 going until everyone feels confident!
END:VEVENT
BEGIN:VTIMEZONE
TZID:Australia/Sydney
X-LIC-LOCATION:Australia/Sydney
BEGIN:DAYLIGHT
DTSTART:20201004T030000
TZOFFSETFROM:+1000
TZOFFSETTO:+1100
TZNAME:AEDT
END:DAYLIGHT
END:VTIMEZONE
END:VCALENDAR