BEGIN:VCALENDAR
VERSION:2.0
PRODID:-//wp-events-plugin.com//7.2.3.1//EN
TZID:Australia/Sydney
X-WR-TIMEZONE:Australia/Sydney
BEGIN:VEVENT
UID:2441@unswoc.org
DTSTART;TZID=Australia/Sydney:20190725T180000
DTEND;TZID=Australia/Sydney:20190725T210000
DTSTAMP:20190722T071025Z
URL:https://unswoc.org/wordpress/events/learn-how-to-lead/
SUMMARY:Learn how to lead
DESCRIPTION:Any climbers goal is to send those 25s outdoor\, but where do y
 ou start? Come learn how to lead climb and belay with Henry and I (Jeffrey
 ) so you can become a self-sufficient climber!\n\nCore skills include\n\n 
 	How to clip\n 	Spotting\n 	How to tie in\n 	How to fall safely\n 	Body po
 sitioning\n 	Rope management\n 	Common mistakes to avoid\n 	Safety calls a
 nd checks\n 	Lead belaying with an ATC\n\nIt is recommended that climbers 
 can climb a minimum Grade 17. Since there are so much to learn\, you have 
 to be able to attend both sessions (Thursday Week 8 - 15/07/2019 and Thurs
 day Week 9 01/08/2019). The workshop will take place at the Ledge at Unive
 rsity of Sydney.\n\n&nbsp\;\n\nGear Required:\n\n 	*Harness\n 	*Climbing S
 hoes\n 	*ATC + locking carabiner\n 	A brain (we don't want space cadets!!)
 \n\n*  items could be borrowed from the club\n\nIf you are keen\, make su
 re you comment your experience down below or message either Henry or mysel
 f on fb!
CATEGORIES:Indoor Climbing
END:VEVENT
BEGIN:VTIMEZONE
TZID:Australia/Sydney
X-LIC-LOCATION:Australia/Sydney
BEGIN:STANDARD
DTSTART:20190407T020000
TZOFFSETFROM:+1100
TZOFFSETTO:+1000
TZNAME:AEST
END:STANDARD
END:VTIMEZONE
END:VCALENDAR