BEGIN:VCALENDAR
VERSION:2.0
PRODID:-//wp-events-plugin.com//7.2.3.1//EN
TZID:Australia/Sydney
X-WR-TIMEZONE:Australia/Sydney
BEGIN:VEVENT
UID:2685@unswoc.org
DTSTART;TZID=Australia/Sydney:20200806T180000
DTEND;TZID=Australia/Sydney:20200806T213000
DTSTAMP:20200730T034641Z
URL:https://unswoc.org/wordpress/events/learn-how-to-lead-climb-and-lead-b
 elay/
SUMMARY:Learn how to lead climb and lead belay
DESCRIPTION:I'll be teaching an indoor "Learn how to lead climb and lead be
 lay" session a St Peters. Learning how to safely lead climb and lead belay
  is essential to go climbing on your own and to transition to outdoor clim
 bing. Plus\, who doesn't like taking a whip! (whip = when you fall from ab
 ove your last quickdraw and go for an exciting flight).\n\n 	You'll need t
 o bring: harness\, shoes\, atc+biner\, rope (dynamic).\n 	Before attending
 \, you'll need to watch these videos (less than 10 min):\n\n 	ASM TIO How 
 to tie a Figure 8 knot\n 	ASM TIO How to use an ATC belay device\n 	ASM TI
 O How to clip a quickdraw\n\n\n\nSee you there!\n\nMaria\n\n&nbsp\;
ATTACH;FMTTYPE=image/jpeg:https://unswoc.org/wordpress/wp-content/uploads/
 2020/07/Jenny-1.jpg
CATEGORIES:Training
END:VEVENT
BEGIN:VTIMEZONE
TZID:Australia/Sydney
X-LIC-LOCATION:Australia/Sydney
BEGIN:STANDARD
DTSTART:20200405T020000
TZOFFSETFROM:+1100
TZOFFSETTO:+1000
TZNAME:AEST
END:STANDARD
END:VTIMEZONE
END:VCALENDAR