BEGIN:VCALENDAR
VERSION:2.0
PRODID:-//wp-events-plugin.com//7.2.3.1//EN
TZID:Australia/Sydney
X-WR-TIMEZONE:Australia/Sydney
BEGIN:VEVENT
UID:384@unswoc.org
DTSTART:20140226T040000Z
DTEND:20140226T080000Z
DTSTAMP:20140224T164516Z
URL:https://unswoc.org/wordpress/events/learn-abseil/
SUMMARY:Learn to abseil
DESCRIPTION:This is for anyone who is new to the club and wants/needs to le
 arn how to abseil (and general cliff safety). Abseiling is a compulsory ba
 sic skill for a lot of outdoors activities including Climbing\, Canyoning 
 and even Kayaking if you are a total bad-ass.\n\nThere is a small abandone
 d quarry in Maroubra that we will be setting ropes up at. It is easy acces
 sable from uni by bus or bike. If there is interest\, I will lead a peleto
 n from uni to the quarry on Wednesday afternoon - post up on the facebook 
 page if you're interested.
ATTACH;FMTTYPE=image/jpeg:https://unswoc.org/wordpress/wp-content/uploads/
 2013/12/rap1.jpg
CATEGORIES:Canyoning,Caving,Outdoor Climbing
LOCATION:Maroubra Quarry Reserve\, 41 Johnston Pde\, Maroubra\, Australia
GEO:-33.937157;151.249023
X-APPLE-STRUCTURED-LOCATION;VALUE=URI;X-ADDRESS=41 Johnston Pde\, Maroubra\
 , Australia;X-APPLE-RADIUS=100;X-TITLE=Maroubra Quarry Reserve:geo:-33.937
 157,151.249023
END:VEVENT
END:VCALENDAR