BEGIN:VCALENDAR
VERSION:2.0
PRODID:-//wp-events-plugin.com//7.2.3.1//EN
TZID:Australia/Sydney
X-WR-TIMEZONE:Australia/Sydney
BEGIN:VEVENT
UID:1935@unswoc.org
DTSTART:20160224T060000Z
DTEND:20160224T090000Z
DTSTAMP:20160224T041707Z
URL:https://unswoc.org/wordpress/events/learn-abseil-3/
SUMMARY:Learn To Abseil
DESCRIPTION:Are you new to the outdoors? Are you interested in trying a can
 yon? Or keen to get into climbing?\n\nWell then this training session is f
 or you.\n\nCome along to the Quarry to do your first ever abseil.\n\nPleas
 e wear sports clothes and runners. The club will provide the rest!\n\nAll 
 levels welcome!
CATEGORIES:Training
END:VEVENT
END:VCALENDAR