BEGIN:VCALENDAR
VERSION:2.0
PRODID:-//wp-events-plugin.com//7.2.3.1//EN
TZID:Australia/Sydney
X-WR-TIMEZONE:Australia/Sydney
BEGIN:VEVENT
UID:1458@unswoc.org
DTSTART:20150904T010000Z
DTEND:20150904T050000Z
DTSTAMP:20150831T132205Z
URL:https://unswoc.org/wordpress/events/learn-abseil-2/
SUMMARY:TRIP FULL - Learn To Abseil
DESCRIPTION:As the weather gets hotter\, the call of canyoning grows louder
 ...\n\nBut if you can't abseil you don't want to be learning in a dangerou
 s canyon! Hence Luke and I will be running a learn to abseil at 12pm this 
 Friday at Maroubra Qaurry Reserve\, near uni. There's limited spots as I c
 an't teach a crowd so be quick. You will be practicing abseiling too.\n\nA
 bseiling is a vital for canyoning\, accessing crags\, trad climbing and mu
 lti-pitch climbing so it's basically a must have skill. Abseiling is also 
 very dangerous\, easy to overlook and make a mistake on\, and a lot harder
  than most people realise since not all abseils are straightforward. Hence
  learning and being comfortable is important.\n\nWATCH THIS VIDEO BEFORE C
 OMING\nLearn To Abseil\n\nand you'll have some idea on what we'll be doing
 . We'll be focusing on the setting up of your belay plate\, a prusik\, and
  the practice of abseiling (although in a canyon generally only the first 
 person uses a prusik and the rest are fireman's belayed which I'll teach).
  I won't be focusing on the setting up of the anchor and rope which is in 
 the video\, but it's useful to watch too.\n\nWe'll be Either leaving uni a
 t 11:30 or make your own way there\, depending on cars.\n\nGEAR REQUIRED (
 get from wednesday gear night)\n\n	Helmet\n	Harness\n	Belay Plate\n	Carabi
 ner x 2\n	Prusik\n\nALSO\n\n	Sunscreen/Lunch&amp\;Snacks/water\n\n&nbsp\;\
 n\nCheers\,\n\nBrendan
CATEGORIES:Training
LOCATION:\, \, 
X-APPLE-STRUCTURED-LOCATION;VALUE=URI;X-ADDRESS=\, ;X-APPLE-RADIUS=100;X-TI
 TLE=:geo:0,0
END:VEVENT
END:VCALENDAR