BEGIN:VCALENDAR
VERSION:2.0
PRODID:-//wp-events-plugin.com//7.2.3.1//EN
TZID:Australia/Sydney
X-WR-TIMEZONE:Australia/Sydney
BEGIN:VEVENT
UID:3650@unswoc.org
DTSTART;TZID=Australia/Sydney:20250915T183000
DTEND;TZID=Australia/Sydney:20250915T213000
DTSTAMP:20250911T014152Z
URL:https://unswoc.org/wordpress/events/learn-2-learn-st-peters-t3/
SUMMARY:Learn 2 Lead @ St Peters T3
DESCRIPTION:Hey Everyone!\n\nRaine and Amelia V will be running a Learn to 
 Lead at Sydney Indoor Climbing Gym at St Peter's next Monday 15th of Septe
 mber at 6:30pm.\n\nYou will need to be comfortable top rope climbing an 18
  as minimum experience. Lead climbing experience is not necessary. This me
 ans being able to both climb and belay comfortably and competently. Howeve
 r\, if you've lead climbed before and just want some more practice and poi
 nters\, or to get your St Peter's lead pass\, we'd love to help you out!\n
 \nBelow is a helpful prelude by Amelia:\n\n\n\nWhat is Lead Climbing?\nSom
 e definitions for those who are unsure:\n\nTop roping is how you normally 
 climb in indoor gyms. The ropes are already set up\, and all you need to d
 o is climb whilst your belayer takes in the slack as you go. If you fall\,
  you hang in the same spot.\n\nLead climbing is a bit more complicated. Wh
 en you go climbing outdoors\, the ropes aren't already set up. So\, the cl
 imber will have to put up quickdraws along the route to clip the rope into
  as they go. If you fall and you're above the bolt with the quickdraw\, yo
 u can fall a few metres. In indoor gyms like St Peter's\, the quickdraws a
 re already in place. For outdoor climbing you'll need to carry them with y
 ou and place them yourself.\n\n\n\nWe will be teaching how to lead belay w
 ith two devices: GriGri and ATC. You'll be placed in a group of three and 
 doing "mock leading" where one person will top rope belay you\, and the ot
 her will be lead belaying you. St Peter's does not allow leading with ATC 
 so only mock leading will be allowed with this device\, which is still goo
 d practice for outdoor trips. If you're competent with a GriGri\, you can 
 do your lead test and move from mock lead to lead climbing and belaying. Y
 ou are not allowed to lead climb without passing a test from the gym staff
 .\n\nWe can also teach how to clean anchors if we have time.\n\n[caption i
 d="attachment_18275" align="aligncenter" width="168"] Mock Leading[/captio
 n]\n\n\n\nPre-Reading\nIf you're keen to come along\, have a read-through 
 of the following resources:\n\n 	How to Lead Climb\n 	How to Lead Belay (A
 TC)\n 	How to Belay with a GriGri\n 	Petzl Access Book 1: Belaying (Page 1
 0 in particular)\n 	Petzl Access Book 5: Sport Climbing\n\nBonus:\n\n 	How
  to Clean a Sport Anchor\n\n 	Note that the club teaches to use a safety/p
 ersonal anchor system (PAS) instead of a second quickdraw.\n\n\n\n\n\n\nCo
 st\nNote that all attendees will need to pay the St Peter's entry fee. For
  UNSWOC members who are uni students\, we have a discount on Mondays\, Wed
 nesdays and Fridays that will reduce entry to $14.50. Please bring a club 
 card and student card. If you do not have a club card\, let me know in the
  comment and I can bring one for you.\n\n\n\nHow to Attend\nTo attend\, si
 gn up below and answer the following in your comment:\n\n 	Your climbing e
 xperience\n 	If you've lead climbing or lead belayed before\n 	What you're
  hoping to learn (e.g. try lead for the first time\, tips and tricks to im
 prove\, or help in getting your lead pass)\n 	If you could turn anything i
 nto an ice-cream flavour\, what would it be?\n\nAlso please make sure that
  a link to your Facebook is included on your UNSWOC profile so you can be 
 added to a group chat. If you don't know how to edit this\, please include
 d it in your comment.\n\n\n\nKeen to see you there! If you have any questi
 ons\, feel free to reach out to Raine Bianchini on FaceBook or email safet
 y@unswoc.org
CATEGORIES:Indoor Climbing
LOCATION:https://maps.app.goo.gl/Kr3w7va5iWysjeKx7
END:VEVENT
BEGIN:VTIMEZONE
TZID:Australia/Sydney
X-LIC-LOCATION:Australia/Sydney
BEGIN:STANDARD
DTSTART:20250406T020000
TZOFFSETFROM:+1100
TZOFFSETTO:+1000
TZNAME:AEST
END:STANDARD
END:VTIMEZONE
END:VCALENDAR