BEGIN:VCALENDAR
VERSION:2.0
PRODID:-//wp-events-plugin.com//7.2.3.1//EN
TZID:Australia/Sydney
X-WR-TIMEZONE:Australia/Sydney
BEGIN:VEVENT
UID:1472@unswoc.org
DTSTART;VALUE=DATE:20151018
DTEND;VALUE=DATE:20151019
DTSTAMP:20151016T051738Z
URL:https://unswoc.org/wordpress/events/lead-training-transition-outdoors/
SUMMARY:LEAD TRAINING - Transition to Outdoors
DESCRIPTION:Brendan\, Vicky and I are running a trip to Dam Cliffs to work 
 on transitioning from leading in the gym to outdoors :)\n\nGear:\n\n	helme
 t\n	harness\n	shoes and chalk bag\n	safety sling and locking biner\n	belay
  device and bine\n\nthe aim of this event is to continue the training of t
 hose who have been having lead lessons at St Peters :)
CATEGORIES:Outdoor Climbing
LOCATION:\, \, 
X-APPLE-STRUCTURED-LOCATION;VALUE=URI;X-ADDRESS=\, ;X-APPLE-RADIUS=100;X-TI
 TLE=:geo:0,0
END:VEVENT
END:VCALENDAR