BEGIN:VCALENDAR
VERSION:2.0
PRODID:-//wp-events-plugin.com//7.2.3.1//EN
TZID:Australia/Sydney
X-WR-TIMEZONE:Australia/Sydney
BEGIN:VEVENT
UID:2048@unswoc.org
DTSTART:20160820T130000Z
DTEND:20160820T130000Z
DTSTAMP:20160809T104237Z
URL:https://unswoc.org/wordpress/events/lead-training-transition-outdoors-
 2/
SUMMARY:LEAD TRAINING: Transition to Outdoors
DESCRIPTION:Hi everyone :)\n\nThis trip is aimed at people who ALREADY know
  how to lead climb and belay\, and want to start transitioning from leadin
 g in the gym to outdoor lead climbing safely*\n\nThe purpose of this trip:
 \n\n	practicing your lead climbing outdoors under supervision\n	learning t
 o clean (taking your gear off a sport route)\n	discussing gear stuff: e.g.
  ropes and dirt\, using one side of a quickdraw for rope consistently\, 90
 deg bolt plates etc.\n	and (possibly) how to create a BASIC top rope ancho
 r\n\nIf you're keen to come\, please PM me:\n\n	your leading experience:\n
 \n	how long you've been leading for and\n	what grade you climb\n\n\n	if yo
 u have a car\n\nVenue TBA soon. Most probably somewhere in the Blue Mounta
 ins\n\nI'll keep the number of spaces small for now\, and we'll re-evaluat
 e depending on who signs up and your experience levels.\n\n*i should clari
 fy that this well help start a transition to outdoors\, but more training 
 is likely to be necessary and we'd recommend going outdoors with more expe
 rienced people until you are very confident
CATEGORIES:Outdoor Climbing
END:VEVENT
END:VCALENDAR