BEGIN:VCALENDAR
VERSION:2.0
PRODID:-//wp-events-plugin.com//7.2.3.1//EN
TZID:Australia/Sydney
X-WR-TIMEZONE:Australia/Sydney
BEGIN:VEVENT
UID:486@unswoc.org
DTSTART:20140523T073000Z
DTEND:20140523T090000Z
DTSTAMP:20140521T201352Z
URL:https://unswoc.org/wordpress/events/lead-belay-practice-training/
SUMMARY:Lead Belay Practice & Training
DESCRIPTION:What it says on the tin.\n\nWe will have a short theory session
  and then try and split up into groups of three to do practice leading.\n\
 nTopics to do -\n\n	Equipment\n	Lead belaying &amp\; belay commands\n	Quic
 kdraw dos and don'ts\n	Intro to rope management\n	How to fall\n	Guidebooks
  and intro to routefinding.\n\nSam\n\n&nbsp\;\n\n&nbsp\;
CATEGORIES:Outdoor Climbing,Training
LOCATION:Sydney Indoor Climbing Gym\, 1-7 Unwins Bridge Road\, St Peters\, 
 NSW\, Australia
GEO:-33.911484;151.172470
X-APPLE-STRUCTURED-LOCATION;VALUE=URI;X-ADDRESS=1-7 Unwins Bridge Road\, St
  Peters\, NSW\, Australia;X-APPLE-RADIUS=100;X-TITLE=Sydney Indoor Climbin
 g Gym:geo:-33.911484,151.172470
END:VEVENT
END:VCALENDAR