BEGIN:VCALENDAR
VERSION:2.0
PRODID:-//wp-events-plugin.com//7.2.3.1//EN
TZID:Australia/Sydney
X-WR-TIMEZONE:Australia/Sydney
BEGIN:VEVENT
UID:3737@unswoc.org
DTSTART;TZID=Australia/Sydney:20260228T110000
DTEND;TZID=Australia/Sydney:20260228T170000
DTSTAMP:20260227T155927Z
URL:https://unswoc.org/wordpress/events/lawson-waterfall-circuit-beginner-
 intermediate-day-hike/
SUMMARY:Lawson Waterfall Circuit - Beginner/Intermediate Day Hike
DESCRIPTION:Photo credit: David Noble [https://www.david-noble.net/]\n\nIf 
 you’ve been accepted on this trip\, please use the facebook Messenger ap
 p to stay up to date on the meeting time &amp\; place.\n\nWith a little bi
 t of rain forecast for this Saturday\, don't lock yourself indoors - Don y
 our raincoat\, come and explore more than five epic waterfalls in the lush
  Blue Mountains rainforest 🌿 🌧️\n\nRainy days mean the falls south
  of Lawson (1.5 hrs by train from Central Station) will be pumping\, the t
 rails less crowded\, the air cool and refreshing...\n\nSo join Rory and I 
 on a 10km+ adventure from Hazelbrook Station to Lawson Station\, passing b
 y Junction Falls\, Federal Falls\, Terrace Falls\, Cataract Falls\, and mo
 re. This is a moderately difficult route\, and there will be some slippery
  stairs\, mud\, and streams to negotiate\, but it is still suitable for be
 ginners who are prepared to push their boundaries a little. Expect everyth
 ing (including you) to get a little bit damp\, and your boots to get muddy
 . Don't worry - A post-hike visit to the pub will help you dry out\, and t
 he views/experience will absolutely be worth it!\n\nItinerary/details\nMee
 t at Hazelbrook at 11am\, Saturday 28th Feb\nFinish walk at Lawson before 
 5pm\nCatch train from Lawson Station back to Sydney (or to your car)\n\nDi
 stance: 9-12km (potential extra distance due to side trails to waterfalls)
 \nElevation: 300-400m\nDifficulty: Easy-medium\n\nRequired Gear List - Rea
 d this before you sign up!\n\n 	Sturdy shoes or boots (waterproof hiking b
 oots are best - No gumboots please)\n 	Raincoat\n 	Day pack that can fit e
 verything listed below...\n 	2L water\n 	Snacks (high-energy like museli b
 ars\, fruit\, nuts\, etc.)\n 	Packed lunch\n 	Warm jacket\n 	1-2 dry bags 
 and zip lock bags\n 	Hat and sunscreen (just in case)\n 	Any personal medi
 cation\n\nOptional gear\n\n 	Rain cover for your pack\n 	Rain pants (will 
 make you hot and sweaty)\n 	Leech removal kit 🔫💣\n 	Camera/electroni
 cs - double dry bagged!\n\n&nbsp\;\n\nIn your sign-up comment\, let us kno
 w your hiking experience level\, and what you're packing for lunch (the p
 erson with the fanciest meal on the hike wins a bag of freddo frogs 🐸)\
 n\nP.S. Please ensure a hyperlink to your Facebook profile is included in 
 your account on this website.\n\n&nbsp\;\n\n&nbsp\;
ATTACH;FMTTYPE=image/jpeg:https://unswoc.org/wordpress/wp-content/uploads/
 2026/02/LW-36-1.jpg
CATEGORIES:Bushwalking
LOCATION:https://maps.app.goo.gl/QnbSkU8ER3hwEKzS8
END:VEVENT
BEGIN:VTIMEZONE
TZID:Australia/Sydney
X-LIC-LOCATION:Australia/Sydney
BEGIN:DAYLIGHT
DTSTART:20251005T030000
TZOFFSETFROM:+1000
TZOFFSETTO:+1100
TZNAME:AEDT
END:DAYLIGHT
END:VTIMEZONE
END:VCALENDAR