BEGIN:VCALENDAR
VERSION:2.0
PRODID:-//wp-events-plugin.com//7.2.3.1//EN
TZID:Australia/Sydney
X-WR-TIMEZONE:Australia/Sydney
BEGIN:VEVENT
UID:2038@unswoc.org
DTSTART:20160819T130000Z
DTEND:20160819T130000Z
DTSTAMP:20160808T230015Z
URL:https://unswoc.org/wordpress/events/lake-macquarie-rogaine/
SUMMARY:Lake Macquarie Rogaine
DESCRIPTION:Yes\, ladies and gentlemen\, anouther rogaine!\n\n&nbsp\;\n\nTh
 is time it is an Lake Macquarie\, just an hour and a half north of Sydney.
  There is a 6 hr and 12 hr event\, I would be happy to do either depending
  on what everyone else is keen on. Rogaining is an excellent way to improv
 e your navigation skills for the upcoming canyoning season! If you are wan
 t to come a long\, sign up here and we can get some teams organised.\n\nE
 ntry fee is:\n\n\n\nFull\n$65\n\n\nConcession\n$46\n\n\n\n&nbsp\;\n\nhttp:
 //nswrogaining.org/AboutEvents/Events/16LM/16LM.htm\n\n&nbsp\;\n\n
CATEGORIES:Rogaining
END:VEVENT
END:VCALENDAR