BEGIN:VCALENDAR
VERSION:2.0
PRODID:-//wp-events-plugin.com//7.2.3.1//EN
TZID:Australia/Sydney
X-WR-TIMEZONE:Australia/Sydney
BEGIN:VEVENT
UID:3686@unswoc.org
DTSTART;TZID=Australia/Sydney:20251018T073000
DTEND;TZID=Australia/Sydney:20251018T170000
DTSTAMP:20251015T050120Z
URL:https://unswoc.org/wordpress/events/lake-lyell-kayaking-boree-log/
SUMMARY:[FULL] SATURDAY BL - LAKE LYELL Kayaking
DESCRIPTION:Keen to explore the mountains and spend a day paddling around o
 n a lake. Well get ready cause this is the perfect trip for you! \n\nIs t
 his for you? … YES!!!! \n\nThis is for anyone keen to have a fun day of
  games\, paddling\, and chilling out on the lake. No kms will be crunched 
 and no previous paddling experience is required. \n\nWhat’s the plan? 
 \n\nWe’ll be heading out in the morning to Lake Lyell where we’ll spen
 d the day paddling around\, playing games\, chilling on the shore and perh
 aps a spot of fishing for the keen fishos out there. Be prepared to have a
  great day on the water no matter the weather. A BBQ may be on the table\,
  but this is still to be confirmed. We will let you know closer to the day
 \, but bring lunch just in case if you haven’t heard anything. \n\nIn t
 he comments\, let me know: \n\n 	Your previous paddling experience (if an
 y) \n\n\n 	Whether you have a car with roof racks \n\n\n 	Whether you ha
 ve a kayak (or two) you could bring \n\nAlso let me know the best (or wor
 st) meal you’ve ever made while camping. \n\n“You need to be approved
  for the main Boree Log event to attend these trips. Please sign up for on
 ly ONE trip per day. If you get rejected you can then sign up for another 
 trip\, this just makes it easier for volunteer trip leaders. Please be awa
 re that as the weather is unpredictable\, trip leaders may need to alter t
 rips accordingly”\n\nBring’th these things \n\n 	Suitable clothes for
  paddling (swimmers/wetsuit – it might be hot\, cold\, windy or rainy so
  be prepared for the conditions) \n\n 	ABSOLUTELY NO COTTON!\n 	Rain jack
 et if its rainy\n\n\n\n\n 	Towel \n\n\n 	Dry change of clothes for after\
 n\n 	bring some warm clothes\n\n\n\n\n 	Lunch \n\n\n 	Snacks for on the w
 ater \n\n\n 	Sunscreen \n\n\n 	Drybag for  spare clothes\, camera etc.\
 n\n\n 	WATER!! \n\n\n 	Water/beach games (optional) \n\n\n 	Fishing gear
  :) (optional) \n\n\n 	Yourself (preferably) \n\nThe club will provide p
 addles\, life jackets and kayaks \n\nSignups!!!! \n\nPriority will be gi
 ven to people who have a car with roofracks\, and also to people who own a
  kayak and can bring it along because spaces are limited by number of kaya
 ks\n\nSignups open 7am Monday 6 October
CATEGORIES:Boree Log,Flat Water Kayaking
LOCATION:https://maps.app.goo.gl/jcyjCfdaXaVF3NSP7
END:VEVENT
BEGIN:VTIMEZONE
TZID:Australia/Sydney
X-LIC-LOCATION:Australia/Sydney
BEGIN:DAYLIGHT
DTSTART:20251005T030000
TZOFFSETFROM:+1000
TZOFFSETTO:+1100
TZNAME:AEDT
END:DAYLIGHT
END:VTIMEZONE
END:VCALENDAR