BEGIN:VCALENDAR
VERSION:2.0
PRODID:-//wp-events-plugin.com//7.2.3.1//EN
TZID:Australia/Sydney
X-WR-TIMEZONE:Australia/Sydney
BEGIN:VEVENT
UID:3004@unswoc.org
DTSTART;TZID=Australia/Sydney:20220505T183000
DTEND;TZID=Australia/Sydney:20220505T200000
DTSTAMP:20220503T083925Z
URL:https://unswoc.org/wordpress/events/knots-the-ledge/
SUMMARY:Knots @ The Ledge
DESCRIPTION:Want to know how to tie in for your climbing trip at Boree Log?
  (Figure 8)\n\nWant to know other handy knots? - Munter\, Clove Hitch\, Al
 pine Butterfly\, Bowline\n\nCome along! I am happy to teach anything (that
  I know) so let me know what your keenest to learn.\n\nI will provide all 
 required gear (just rope =) ).\n\nStarting at 630 till we are done so you 
 can get some climbing in first if you want!
END:VEVENT
BEGIN:VTIMEZONE
TZID:Australia/Sydney
X-LIC-LOCATION:Australia/Sydney
BEGIN:STANDARD
DTSTART:20220403T020000
TZOFFSETFROM:+1100
TZOFFSETTO:+1000
TZNAME:AEST
END:STANDARD
END:VTIMEZONE
END:VCALENDAR