BEGIN:VCALENDAR
VERSION:2.0
PRODID:-//wp-events-plugin.com//7.2.3.1//EN
TZID:Australia/Sydney
X-WR-TIMEZONE:Australia/Sydney
BEGIN:VEVENT
UID:3207@unswoc.org
DTSTART;TZID=Australia/Sydney:20230223T183000
DTEND;TZID=Australia/Sydney:20230223T203000
DTSTAMP:20230220T003802Z
URL:https://unswoc.org/wordpress/events/knots-rigging-workshop-the-ledge/
SUMMARY:Knots & Rigging Workshop @ The Ledge
DESCRIPTION:Hey friends\,\nCome join Brendan and me (Mali) at this Thursday
 's ledge session and we'll try to teach you some new knots and anchor syst
 ems.\n\nThis workshop will be mostly catered toward beginners\, but everyo
 ne's welcome!\n\nA few things we'll likely cover:\n\n 	As many knots as we
  know/you're willing to learn\n 	SERENE anchors\n 	Releasable anchors\n 	W
 hen to use what system\n\n&nbsp\;\n\nLet me know your current rope skills 
 briefly in the comments.\n\n&nbsp\;\n\nSee ya thursday :)\n\n&nbsp\;\n\n*n
 ote there's also the nav workshop on at this time so please don't sign up 
 for both
CATEGORIES:Training
END:VEVENT
BEGIN:VTIMEZONE
TZID:Australia/Sydney
X-LIC-LOCATION:Australia/Sydney
BEGIN:DAYLIGHT
DTSTART:20221002T030000
TZOFFSETFROM:+1000
TZOFFSETTO:+1100
TZNAME:AEDT
END:DAYLIGHT
END:VTIMEZONE
END:VCALENDAR