BEGIN:VCALENDAR
VERSION:2.0
PRODID:-//wp-events-plugin.com//7.2.3.1//EN
TZID:Australia/Sydney
X-WR-TIMEZONE:Australia/Sydney
BEGIN:VEVENT
UID:1959@unswoc.org
DTSTART:20160301T070000Z
DTEND:20160301T110000Z
DTSTAMP:20160227T220916Z
URL:https://unswoc.org/wordpress/events/knots-knoobs/
SUMMARY:Knots for Knoobs
DESCRIPTION:Hey guys this coming Tuesday Nicola and I will be running a cou
 rse on how to tie the following knots and their uses:\n\n	Figure 8\n	Clove
  hitch\n	Munter hitch\n\nAs well as possibly:\n\n	Double fishermans\n	Bowl
 ine\n	Alpine butterfly\n\nAs you move to climbing\, canyoning\, or abseili
 ng outdoors\, knowing how to tie a few basic knots is not only handy\, but
  also essential for building anchors and tying yourself into anchors.\n\nA
 ll you need to do is bring yourself. We will provide plenty of cord and ca
 rabiners for people to practice.\n\nTIME: 6pm\nLOCATION: Meet at the gear 
 cupboard - we'll move to a free room afterwards\n\nCheers\,\n\nVic &amp\; 
 Nic
END:VEVENT
END:VCALENDAR