BEGIN:VCALENDAR
VERSION:2.0
PRODID:-//wp-events-plugin.com//7.2.3.1//EN
TZID:Australia/Sydney
X-WR-TIMEZONE:Australia/Sydney
BEGIN:VEVENT
UID:701@unswoc.org
DTSTART:20150311T073000Z
DTEND:20150311T100000Z
DTSTAMP:20150224T151018Z
URL:https://unswoc.org/wordpress/events/knots-for-noobs/
SUMMARY:Knots for Noobs
DESCRIPTION:Want to learn all the knots you will need to climb and canyon? 
 Looking to add some rope skills to your back country skiing or whitewater 
 kayaking? We will cover everything you need to get started. \n\nWe will me
 et at 6:30 pm outside the gear cupboard\, and head to a class room from th
 ere. 
CATEGORIES:Outdoor Climbing
LOCATION:\, \, 
X-APPLE-STRUCTURED-LOCATION;VALUE=URI;X-ADDRESS=\, ;X-APPLE-RADIUS=100;X-TI
 TLE=:geo:0,0
END:VEVENT
END:VCALENDAR