BEGIN:VCALENDAR
VERSION:2.0
PRODID:-//wp-events-plugin.com//7.2.3.1//EN
TZID:Australia/Sydney
X-WR-TIMEZONE:Australia/Sydney
BEGIN:VEVENT
UID:2853@unswoc.org
DTSTART;TZID=Australia/Sydney:20210218T183000
DTEND;TZID=Australia/Sydney:20210218T203000
DTSTAMP:20210216T032442Z
URL:https://unswoc.org/wordpress/events/knots-for-climbing/
SUMMARY:Knots for climbing!
DESCRIPTION:[caption id="attachment_12822" align="alignleft" width="2048"] 
 Photo credit: Sid Tinney[/caption]\n\nThis is the sign up form for the int
 roductory knots workshop I'll be running with the help of Cindy at the led
 ge!\n\n(Please not that you MUST be signed up to the ledge to attend this 
 session)\n\nDuring this session we will cover some fundamental knots that 
 are essential for climbing including:\n\n 	Figure 8 for tying in\n 	Stoppe
 r knot\n 	Overhand knot\n 	Figure 8 on a bight\n 	Clove hitch\n\nIf there'
 s interest we may also cover:\n\n 	Munter hitch\n 	Double fishermans\n 	Pr
 ussik knots\n\nWhat you'll need:\n\n 	Harness\n 	At least one locking cara
 biner\n 	Enthusiasm for practicing lots of knots\n\nWe'll aim to start at 
 6:30pm and then just keep going until everyone feels confident!\n\nAny que
 stions\, let me know on Facebook. See you on Thursday :)
ATTACH;FMTTYPE=image/jpeg:https://unswoc.org/wordpress/wp-content/uploads/
 2021/02/website-pic.jpg
CATEGORIES:Training
END:VEVENT
BEGIN:VTIMEZONE
TZID:Australia/Sydney
X-LIC-LOCATION:Australia/Sydney
BEGIN:DAYLIGHT
DTSTART:20201004T030000
TZOFFSETFROM:+1000
TZOFFSETTO:+1100
TZNAME:AEDT
END:DAYLIGHT
END:VTIMEZONE
END:VCALENDAR