BEGIN:VCALENDAR
VERSION:2.0
PRODID:-//wp-events-plugin.com//7.2.3.1//EN
TZID:Australia/Sydney
X-WR-TIMEZONE:Australia/Sydney
BEGIN:VEVENT
UID:529@unswoc.org
DTSTART:20140815T230000Z
DTEND:20140816T050000Z
DTSTAMP:20140811T201029Z
URL:https://unswoc.org/wordpress/events/killara-bouldering-beginner-interm
 ediate/
SUMMARY:Killara Bouldering - Beginner &amp\; Intermediate
DESCRIPTION:Hello hello!\n\nWe are running a bouldering trip to The Promise
 d Land in Killara on Sunday. You can check out the climbs here - http://ww
 w.thecrag.com/climbing/australia/north-shore/the-promised-land but there i
 s plenty of fantastic stuff for everyone.\n\nThe bouldering is behind Kool
 a Park on Koola Avenue but we will also run shuttles from Killara train st
 ation if you aren't able to get a lift.\n\nWe will meet at Koola Park at 1
 0am and stay until our fingers have been sufficiently abused.\n\nDon't for
 get climbing shoes and chalk if you have them (we will bring spares)\, as 
 well as water and food for the day!\n\nSkye - 0418800740\n\nJarrod - 04304
 02053
CATEGORIES:Outdoor Climbing
END:VEVENT
END:VCALENDAR