BEGIN:VCALENDAR
VERSION:2.0
PRODID:-//wp-events-plugin.com//7.2.3.1//EN
TZID:Australia/Sydney
X-WR-TIMEZONE:Australia/Sydney
BEGIN:VEVENT
UID:601@unswoc.org
DTSTART:20140930T081500Z
DTEND:20140930T103000Z
DTSTAMP:20140927T232834Z
URL:https://unswoc.org/wordpress/events/kayaking-pool-sessions-2014-09-30/
SUMMARY:Kayaking Pool Sessions
DESCRIPTION:Learn how to roll or start working on those flatwater freestyle
  skills.\n\nMeet at the Gear Cupboard at 7:15 pm\, for a 7:30 start on the
  water.\n\nIt costs $2 to attend for pool fees. Pay the person running the
  pool session.\n\n&nbsp\;\n\nNOTE: This weeks pool session will be for pre
 vious attendees only. There will be no instructors (as they are away). If 
 you haven't been before then you CAN NOT attend. Brendan will be opening 
 the cupboard.
ATTACH;FMTTYPE=image/jpeg:https://unswoc.org/wordpress/wp-content/uploads/
 2013/07/download.jpg
CATEGORIES:Flat Water Kayaking
LOCATION:\, \, 
X-APPLE-STRUCTURED-LOCATION;VALUE=URI;X-ADDRESS=\, ;X-APPLE-RADIUS=100;X-TI
 TLE=:geo:0,0
END:VEVENT
END:VCALENDAR