BEGIN:VCALENDAR
VERSION:2.0
PRODID:-//wp-events-plugin.com//7.2.3.1//EN
TZID:Australia/Sydney
X-WR-TIMEZONE:Australia/Sydney
BEGIN:VEVENT
UID:762@unswoc.org
DTSTART:20150428T083000Z
DTEND:20150428T110000Z
DTSTAMP:20150427T021100Z
URL:https://unswoc.org/wordpress/events/kayaking-pool-sessions-2-2015-04-2
 8/
SUMMARY:KAYAKING POOL SESSIONS - Cancelled for this week
DESCRIPTION:CANCELLED FOR THIS WEEK DUE TO FILM NIGHT\n\n&nbsp\;\n\nLearn h
 ow to roll or start working on those flatwater freestyle skills.\n\nMeet a
 t the Gear Cupboard at 7:30 pm\, for an 8pm start on the water.\n\nIt cost
 s $5 to attend for pool fees. Pay the person running the pool session.
CATEGORIES:Flat Water Kayaking
LOCATION:\, \, 
X-APPLE-STRUCTURED-LOCATION;VALUE=URI;X-ADDRESS=\, ;X-APPLE-RADIUS=100;X-TI
 TLE=:geo:0,0
END:VEVENT
END:VCALENDAR