BEGIN:VCALENDAR
VERSION:2.0
PRODID:-//wp-events-plugin.com//7.2.3.1//EN
TZID:Australia/Sydney
X-WR-TIMEZONE:Australia/Sydney
BEGIN:VEVENT
UID:757@unswoc.org
DTSTART:20150324T083000Z
DTEND:20150324T110000Z
DTSTAMP:20150317T001211Z
URL:https://unswoc.org/wordpress/events/kayaking-pool-sessions-2-2015-03-2
 4/
SUMMARY:KAYAKING POOL SESSIONS
DESCRIPTION:Learn how to roll or start working on those flatwater freestyle
  skills.\n\nMeet at the Gear Cupboard at 7:30 pm\, for an 8pm start on the
  water.\n\nIt costs $5 to attend for pool fees. Pay the person running the
  pool session.
CATEGORIES:Flat Water Kayaking
LOCATION:\, \, 
X-APPLE-STRUCTURED-LOCATION;VALUE=URI;X-ADDRESS=\, ;X-APPLE-RADIUS=100;X-TI
 TLE=:geo:0,0
END:VEVENT
END:VCALENDAR